Package: SIMLR Version: 1.28.0 Command: chmod a+r SIMLR -R && F:\biocbuild\bbs-3.18-bioc\R\bin\R.exe CMD build --keep-empty-dirs --no-resave-data SIMLR StartedAt: 2024-04-15 21:12:26 -0400 (Mon, 15 Apr 2024) EndedAt: 2024-04-15 21:14:50 -0400 (Mon, 15 Apr 2024) EllapsedTime: 143.9 seconds RetCode: 0 Status: OK PackageFile: SIMLR_1.28.0.tar.gz PackageFileSize: 3.911 MiB