Package: SISPA Version: 1.32.0 Command: /home/biocbuild/R/R-4.3.1/bin/R CMD build --keep-empty-dirs --no-resave-data SISPA StartedAt: 2023-11-02 06:27:59 -0000 (Thu, 02 Nov 2023) EndedAt: 2023-11-02 06:29:11 -0000 (Thu, 02 Nov 2023) EllapsedTime: 72.1 seconds RetCode: 0 Status: OK PackageFile: SISPA_1.32.0.tar.gz PackageFileSize: 260.2 KiB