Package: SLqPCR Version: 1.68.0 Command: /Library/Frameworks/R.framework/Resources/bin/R CMD INSTALL SLqPCR StartedAt: 2024-04-15 15:03:45 -0400 (Mon, 15 Apr 2024) EndedAt: 2024-04-15 15:03:56 -0400 (Mon, 15 Apr 2024) EllapsedTime: 11.5 seconds RetCode: 0 Status: OK