Package: SLqPCR Version: 1.68.0 Command: /home/biocbuild/bbs-3.18-bioc/R/bin/R CMD check --install=check:SLqPCR.install-out.txt --library=/home/biocbuild/bbs-3.18-bioc/R/site-library --timings SLqPCR_1.68.0.tar.gz StartedAt: 2024-04-16 04:06:20 -0400 (Tue, 16 Apr 2024) EndedAt: 2024-04-16 04:06:37 -0400 (Tue, 16 Apr 2024) EllapsedTime: 16.6 seconds RetCode: 0 Status: OK CheckDir: SLqPCR.Rcheck Warnings: 0