Package: SMAD Version: 1.18.0 Command: /home/biocbuild/R/R-4.3.1/bin/R CMD check --install=check:SMAD.install-out.txt --library=/home/biocbuild/R/R-4.3.1/site-library --no-vignettes --timings SMAD_1.18.0.tar.gz StartedAt: 2023-11-02 14:28:47 -0000 (Thu, 02 Nov 2023) EndedAt: 2023-11-02 14:29:45 -0000 (Thu, 02 Nov 2023) EllapsedTime: 58.1 seconds RetCode: 0 Status: WARNINGS CheckDir: SMAD.Rcheck Warnings: 4