Package: SNPRelate Version: 1.36.0 Command: /home/biocbuild/R/R-4.3.1/bin/R CMD build --keep-empty-dirs --no-resave-data SNPRelate StartedAt: 2023-11-02 06:32:21 -0000 (Thu, 02 Nov 2023) EndedAt: 2023-11-02 06:33:31 -0000 (Thu, 02 Nov 2023) EllapsedTime: 70.1 seconds RetCode: 0 Status: OK PackageFile: SNPRelate_1.36.0.tar.gz PackageFileSize: 3.192 MiB