Package: SNPRelate Version: 1.36.1 Command: /Library/Frameworks/R.framework/Resources/bin/R CMD build --keep-empty-dirs --no-resave-data SNPRelate StartedAt: 2024-03-03 18:24:14 -0500 (Sun, 03 Mar 2024) EndedAt: 2024-03-03 18:25:12 -0500 (Sun, 03 Mar 2024) EllapsedTime: 57.7 seconds RetCode: 0 Status: OK PackageFile: SNPRelate_1.36.1.tar.gz PackageFileSize: 3.102 MiB