Package: SNPRelate Version: 1.36.1 Command: /Library/Frameworks/R.framework/Resources/bin/R CMD check --install=check:SNPRelate.install-out.txt --library=/Library/Frameworks/R.framework/Resources/library --no-vignettes --timings SNPRelate_1.36.1.tar.gz StartedAt: 2024-03-03 23:35:23 -0500 (Sun, 03 Mar 2024) EndedAt: 2024-03-03 23:37:34 -0500 (Sun, 03 Mar 2024) EllapsedTime: 130.6 seconds RetCode: 0 Status: OK CheckDir: SNPRelate.Rcheck Warnings: 0