Package: SNPRelate Version: 1.36.1 Command: /Library/Frameworks/R.framework/Resources/bin/R CMD INSTALL SNPRelate StartedAt: 2024-03-03 15:06:48 -0500 (Sun, 03 Mar 2024) EndedAt: 2024-03-03 15:07:17 -0500 (Sun, 03 Mar 2024) EllapsedTime: 28.2 seconds RetCode: 0 Status: OK