Package: SNPRelate Version: 1.36.1 Command: rm -rf SNPRelate.buildbin-libdir && mkdir SNPRelate.buildbin-libdir && /Users/biocbuild/BBS/utils/build-universal.sh SNPRelate_1.36.1.tar.gz /Library/Frameworks/R.framework/Resources/bin/R SNPRelate.buildbin-libdir StartedAt: 2024-04-16 12:46:48 -0400 (Tue, 16 Apr 2024) EndedAt: 2024-04-16 12:47:51 -0400 (Tue, 16 Apr 2024) EllapsedTime: 63.5 seconds RetCode: 0 Status: OK PackageFile: SNPRelate_1.36.1.tgz PackageFileSize: 3.858 MiB