Package: SNPRelate Version: 1.36.1 Command: /Library/Frameworks/R.framework/Resources/bin/R CMD build --keep-empty-dirs --no-resave-data SNPRelate StartedAt: 2024-04-15 22:10:02 -0400 (Mon, 15 Apr 2024) EndedAt: 2024-04-15 22:11:59 -0400 (Mon, 15 Apr 2024) EllapsedTime: 116.6 seconds RetCode: 0 Status: OK PackageFile: SNPRelate_1.36.1.tar.gz PackageFileSize: 3.384 MiB