Package: SNPRelate Version: 1.36.1 Command: /Library/Frameworks/R.framework/Resources/bin/R CMD check --install=check:SNPRelate.install-out.txt --library=/Library/Frameworks/R.framework/Resources/library --no-vignettes --timings SNPRelate_1.36.1.tar.gz StartedAt: 2024-04-16 09:09:11 -0400 (Tue, 16 Apr 2024) EndedAt: 2024-04-16 09:13:09 -0400 (Tue, 16 Apr 2024) EllapsedTime: 238.3 seconds RetCode: 0 Status: OK CheckDir: SNPRelate.Rcheck Warnings: 0