Package: SNPRelate Version: 1.36.1 Command: /Library/Frameworks/R.framework/Resources/bin/R CMD INSTALL SNPRelate StartedAt: 2024-04-15 15:09:04 -0400 (Mon, 15 Apr 2024) EndedAt: 2024-04-15 15:10:05 -0400 (Mon, 15 Apr 2024) EllapsedTime: 61.6 seconds RetCode: 0 Status: OK