Package: SNPRelate Version: 1.36.1 Command: /home/biocbuild/bbs-3.18-bioc/R/bin/R CMD INSTALL SNPRelate StartedAt: 2024-04-15 15:09:12 -0400 (Mon, 15 Apr 2024) EndedAt: 2024-04-15 15:09:46 -0400 (Mon, 15 Apr 2024) EllapsedTime: 34.2 seconds RetCode: 0 Status: OK