Package: SNPRelate Version: 1.36.1 Command: rm -rf SNPRelate.buildbin-libdir && mkdir SNPRelate.buildbin-libdir && F:\biocbuild\bbs-3.18-bioc\R\bin\R.exe CMD INSTALL --build --library=SNPRelate.buildbin-libdir SNPRelate_1.36.1.tar.gz StartedAt: 2024-04-16 07:43:22 -0400 (Tue, 16 Apr 2024) EndedAt: 2024-04-16 07:44:51 -0400 (Tue, 16 Apr 2024) EllapsedTime: 88.7 seconds RetCode: 0 Status: OK PackageFile: SNPRelate_1.36.1.zip PackageFileSize: 2.656 MiB