Package: SNPRelate Version: 1.36.1 Command: chmod a+r SNPRelate -R && F:\biocbuild\bbs-3.18-bioc\R\bin\R.exe CMD build --keep-empty-dirs --no-resave-data SNPRelate StartedAt: 2024-04-15 21:17:44 -0400 (Mon, 15 Apr 2024) EndedAt: 2024-04-15 21:22:30 -0400 (Mon, 15 Apr 2024) EllapsedTime: 285.8 seconds RetCode: 0 Status: OK PackageFile: SNPRelate_1.36.1.tar.gz PackageFileSize: 1.918 MiB