Package: SNPRelate Version: 1.36.1 Command: F:\biocbuild\bbs-3.18-bioc\R\bin\R.exe CMD check --no-multiarch --install=check:SNPRelate.install-out.txt --library=F:\biocbuild\bbs-3.18-bioc\R\library --no-vignettes --timings SNPRelate_1.36.1.tar.gz StartedAt: 2024-04-16 05:17:50 -0400 (Tue, 16 Apr 2024) EndedAt: 2024-04-16 05:20:17 -0400 (Tue, 16 Apr 2024) EllapsedTime: 147.0 seconds RetCode: 0 Status: OK CheckDir: SNPRelate.Rcheck Warnings: 0