Package: SNPRelate Version: 1.36.1 Command: F:\biocbuild\bbs-3.18-bioc\R\bin\R.exe CMD INSTALL SNPRelate StartedAt: 2024-04-15 15:39:15 -0400 (Mon, 15 Apr 2024) EndedAt: 2024-04-15 15:40:27 -0400 (Mon, 15 Apr 2024) EllapsedTime: 72.4 seconds RetCode: 0 Status: OK