##############################################################################
##############################################################################
###
### Running command:
###
###   /home/biocbuild/R/R-4.3.1/bin/R CMD check --install=check:SNPhood.install-out.txt --library=/home/biocbuild/R/R-4.3.1/site-library --timings SNPhood_1.31.0.tar.gz
###
##############################################################################
##############################################################################


* using log directory ‘/home/biocbuild/bbs-3.18-bioc/meat/SNPhood.Rcheck’
* using R version 4.3.1 (2023-06-16)
* using platform: aarch64-unknown-linux-gnu (64-bit)
* R was compiled by
    gcc (GCC) 10.3.1
    GNU Fortran (GCC) 10.3.1
* running under: openEuler 22.03 (LTS-SP1)
* using session charset: UTF-8
* checking for file ‘SNPhood/DESCRIPTION’ ... OK
* this is package ‘SNPhood’ version ‘1.31.0’
* checking package namespace information ... OK
* checking package dependencies ... OK
* checking if this is a source package ... OK
* checking if there is a namespace ... OK
* checking for hidden files and directories ... OK
* checking for portable file names ... OK
* checking for sufficient/correct file permissions ... OK
* checking whether package ‘SNPhood’ can be installed ... OK
* checking installed package size ... OK
* checking package directory ... OK
* checking ‘build’ directory ... OK
* checking DESCRIPTION meta-information ... NOTE
BugReports field is not a suitable URL but contains an email address:
   use the Contact field instead
* checking top-level files ... OK
* checking for left-over files ... OK
* checking index information ... OK
* checking package subdirectories ... OK
* checking R files for non-ASCII characters ... OK
* checking R files for syntax errors ... OK
* checking whether the package can be loaded ... OK
* checking whether the package can be loaded with stated dependencies ... OK
* checking whether the package can be unloaded cleanly ... OK
* checking whether the namespace can be loaded with stated dependencies ... OK
* checking whether the namespace can be unloaded cleanly ... OK
* checking loading without being on the library search path ... OK
* checking startup messages can be suppressed ... OK
* checking dependencies in R code ... OK
* checking S3 generic/method consistency ... OK
* checking replacement functions ... OK
* checking foreign function calls ... OK
* checking R code for possible problems ... NOTE
.calcBinomTestVector: no visible binding for global variable ‘pp’
Undefined global functions or variables:
  pp
* checking Rd files ... OK
* checking Rd metadata ... OK
* checking Rd cross-references ... OK
* checking for missing documentation entries ... OK
* checking for code/documentation mismatches ... OK
* checking Rd \usage sections ... OK
* checking Rd contents ... OK
* checking for unstated dependencies in examples ... OK
* checking contents of ‘data’ directory ... OK
* checking data for non-ASCII characters ... OK
* checking LazyData ... OK
* checking data for ASCII and uncompressed saves ... OK
* checking files in ‘vignettes’ ... OK
* checking examples ... OK
Examples with CPU (user + system) or elapsed time > 5s
                                   user system elapsed
analyzeSNPhood                  148.600  2.140 151.937
plotAllelicBiasResults           44.217  0.292  44.446
plotAndSummarizeAllelicBiasTest  40.789  0.099  40.817
testForAllelicBiases             40.297  0.247  40.511
plotFDRResults                   39.093  0.120  39.169
annotationBins2                  11.853  0.016  11.890
associateGenotypes                8.470  0.036   8.522
results                           2.225  2.793   5.034
* checking for unstated dependencies in vignettes ... OK
* checking package vignettes in ‘inst/doc’ ... OK
* checking running R code from vignettes ...
  ‘IntroductionToSNPhood.Rmd’ using ‘UTF-8’... OK
  ‘workflow.Rmd’ using ‘UTF-8’... OK
 NONE
* checking re-building of vignette outputs ... OK
* checking PDF version of manual ... OK
* DONE

Status: 2 NOTEs
See
  ‘/home/biocbuild/bbs-3.18-bioc/meat/SNPhood.Rcheck/00check.log’
for details.