Package: SNPhood Version: 1.32.0 Command: chmod a+r SNPhood -R && F:\biocbuild\bbs-3.18-bioc\R\bin\R.exe CMD build --keep-empty-dirs --no-resave-data SNPhood StartedAt: 2024-04-15 21:17:41 -0400 (Mon, 15 Apr 2024) EndedAt: 2024-04-15 21:22:17 -0400 (Mon, 15 Apr 2024) EllapsedTime: 275.7 seconds RetCode: 0 Status: OK PackageFile: SNPhood_1.32.0.tar.gz PackageFileSize: 5.061 MiB