Package: SPEM Version: 1.42.0 Command: rm -rf SPEM.buildbin-libdir && mkdir SPEM.buildbin-libdir && F:\biocbuild\bbs-3.18-bioc\R\bin\R.exe CMD INSTALL --build --library=SPEM.buildbin-libdir SPEM_1.42.0.tar.gz StartedAt: 2024-04-16 07:44:40 -0400 (Tue, 16 Apr 2024) EndedAt: 2024-04-16 07:44:56 -0400 (Tue, 16 Apr 2024) EllapsedTime: 16.4 seconds RetCode: 0 Status: OK PackageFile: SPEM_1.42.0.zip PackageFileSize: 369.2 KiB