Package: SPONGE Version: 1.24.0 Command: /home/biocbuild/R/R-4.3.1/bin/R CMD check --install=check:SPONGE.install-out.txt --library=/home/biocbuild/R/R-4.3.1/site-library --no-vignettes --timings SPONGE_1.24.0.tar.gz StartedAt: 2023-11-02 14:37:01 -0000 (Thu, 02 Nov 2023) EndedAt: 2023-11-02 14:44:32 -0000 (Thu, 02 Nov 2023) EllapsedTime: 451.8 seconds RetCode: 0 Status: WARNINGS CheckDir: SPONGE.Rcheck Warnings: 5