Package: SPsimSeq Version: 1.11.0 Command: /home/biocbuild/R/R-4.3.1/bin/R CMD check --install=check:SPsimSeq.install-out.txt --library=/home/biocbuild/R/R-4.3.1/site-library --timings SPsimSeq_1.11.0.tar.gz StartedAt: 2023-10-24 13:37:04 -0000 (Tue, 24 Oct 2023) EndedAt: 2023-10-24 13:53:11 -0000 (Tue, 24 Oct 2023) EllapsedTime: 966.5 seconds RetCode: 0 Status: OK CheckDir: SPsimSeq.Rcheck Warnings: 0