Package: SPsimSeq Version: 1.12.0 Command: /home/biocbuild/R/R-4.3.1/bin/R CMD INSTALL SPsimSeq StartedAt: 2023-11-01 20:49:24 -0000 (Wed, 01 Nov 2023) EndedAt: 2023-11-01 20:50:14 -0000 (Wed, 01 Nov 2023) EllapsedTime: 49.7 seconds RetCode: 0 Status: OK