Package: SPsimSeq Version: 1.12.0 Command: /Library/Frameworks/R.framework/Resources/bin/R CMD INSTALL SPsimSeq StartedAt: 2024-04-15 16:16:45 -0400 (Mon, 15 Apr 2024) EndedAt: 2024-04-15 16:18:00 -0400 (Mon, 15 Apr 2024) EllapsedTime: 74.9 seconds RetCode: 0 Status: OK