Package: SQLDataFrame Version: 1.16.1 Command: /Library/Frameworks/R.framework/Resources/bin/R CMD build --keep-empty-dirs --no-resave-data SQLDataFrame StartedAt: 2024-03-03 18:28:30 -0500 (Sun, 03 Mar 2024) EndedAt: 2024-03-03 18:29:15 -0500 (Sun, 03 Mar 2024) EllapsedTime: 44.9 seconds RetCode: 0 Status: OK PackageFile: SQLDataFrame_1.16.1.tar.gz PackageFileSize: 637.6 KiB