Package: SQLDataFrame Version: 1.16.1 Command: rm -rf SQLDataFrame.buildbin-libdir && mkdir SQLDataFrame.buildbin-libdir && /Users/biocbuild/BBS/utils/build-universal.sh SQLDataFrame_1.16.1.tar.gz /Library/Frameworks/R.framework/Resources/bin/R SQLDataFrame.buildbin-libdir StartedAt: 2024-04-16 12:48:44 -0400 (Tue, 16 Apr 2024) EndedAt: 2024-04-16 12:49:10 -0400 (Tue, 16 Apr 2024) EllapsedTime: 25.8 seconds RetCode: 0 Status: OK PackageFile: SQLDataFrame_1.16.1.tgz PackageFileSize: 955.6 KiB