Package: SQLDataFrame Version: 1.16.1 Command: chmod a+r SQLDataFrame -R && F:\biocbuild\bbs-3.18-bioc\R\bin\R.exe CMD build --keep-empty-dirs --no-resave-data SQLDataFrame StartedAt: 2024-04-15 21:27:28 -0400 (Mon, 15 Apr 2024) EndedAt: 2024-04-15 21:28:13 -0400 (Mon, 15 Apr 2024) EllapsedTime: 44.9 seconds RetCode: 0 Status: OK PackageFile: SQLDataFrame_1.16.1.tar.gz PackageFileSize: 638.3 KiB