Package: SRAdb Version: 1.64.0 Command: /home/biocbuild/R/R-4.3.1/bin/R CMD build --keep-empty-dirs --no-resave-data SRAdb StartedAt: 2023-11-02 06:45:07 -0000 (Thu, 02 Nov 2023) EndedAt: 2023-11-02 06:45:22 -0000 (Thu, 02 Nov 2023) EllapsedTime: 15.0 seconds RetCode: 0 Status: OK PackageFile: SRAdb_1.64.0.tar.gz PackageFileSize: 881 KiB