Package: STRINGdb Version: 2.14.0 Command: /home/biocbuild/R/R-4.3.1/bin/R CMD build --keep-empty-dirs --no-resave-data STRINGdb StartedAt: 2023-11-02 06:49:46 -0000 (Thu, 02 Nov 2023) EndedAt: 2023-11-02 06:52:10 -0000 (Thu, 02 Nov 2023) EllapsedTime: 144.5 seconds RetCode: 1 Status: ERROR PackageFile: None PackageFileSize: NA