Package: STROMA4 Version: 1.26.0 Command: /Library/Frameworks/R.framework/Resources/bin/R CMD check --install=check:STROMA4.install-out.txt --library=/Library/Frameworks/R.framework/Resources/library --no-vignettes --timings STROMA4_1.26.0.tar.gz StartedAt: 2024-03-03 23:47:45 -0500 (Sun, 03 Mar 2024) EndedAt: 2024-03-03 23:49:12 -0500 (Sun, 03 Mar 2024) EllapsedTime: 87.8 seconds RetCode: 0 Status: OK CheckDir: STROMA4.Rcheck Warnings: 0