Package: STROMA4 Version: 1.26.0 Command: /Library/Frameworks/R.framework/Resources/bin/R CMD check --install=check:STROMA4.install-out.txt --library=/Library/Frameworks/R.framework/Resources/library --no-vignettes --timings STROMA4_1.26.0.tar.gz StartedAt: 2024-04-16 09:36:26 -0400 (Tue, 16 Apr 2024) EndedAt: 2024-04-16 09:38:53 -0400 (Tue, 16 Apr 2024) EllapsedTime: 146.8 seconds RetCode: 0 Status: OK CheckDir: STROMA4.Rcheck Warnings: 0