Package: STdeconvolve Version: 1.6.0 Maintainer: Brendan Miller MaintainerEmail: bmill3r at gmail.com git_url: https://git.bioconductor.org/packages/STdeconvolve git_branch: RELEASE_3_18 git_last_commit: 9cc625d git_last_commit_date: 2023-10-24 11:41:49 -0400 (Tue, 24 Oct 2023)