Package: STdeconvolve Version: 1.6.0 Command: /home/biocbuild/R/R-4.3.1/bin/R CMD build --keep-empty-dirs --no-resave-data STdeconvolve StartedAt: 2023-11-02 06:48:52 -0000 (Thu, 02 Nov 2023) EndedAt: 2023-11-02 06:51:08 -0000 (Thu, 02 Nov 2023) EllapsedTime: 135.3 seconds RetCode: 0 Status: OK PackageFile: STdeconvolve_1.6.0.tar.gz PackageFileSize: 2.698 MiB