Package: STdeconvolve Version: 1.6.0 Command: rm -rf STdeconvolve.buildbin-libdir && mkdir STdeconvolve.buildbin-libdir && /Users/biocbuild/BBS/utils/build-universal.sh STdeconvolve_1.6.0.tar.gz /Library/Frameworks/R.framework/Resources/bin/R STdeconvolve.buildbin-libdir StartedAt: 2024-03-04 01:07:19 -0500 (Mon, 04 Mar 2024) EndedAt: 2024-03-04 01:07:30 -0500 (Mon, 04 Mar 2024) EllapsedTime: 11.3 seconds RetCode: 0 Status: OK PackageFile: STdeconvolve_1.6.0.tgz PackageFileSize: 2.763 MiB