Package: STdeconvolve Version: 1.6.0 Command: /Library/Frameworks/R.framework/Resources/bin/R CMD INSTALL STdeconvolve StartedAt: 2024-03-03 15:11:58 -0500 (Sun, 03 Mar 2024) EndedAt: 2024-03-03 15:12:09 -0500 (Sun, 03 Mar 2024) EllapsedTime: 10.8 seconds RetCode: 0 Status: OK