Package: STdeconvolve Version: 1.6.0 Command: /home/biocbuild/bbs-3.18-bioc/R/bin/R CMD build --keep-empty-dirs --no-resave-data STdeconvolve StartedAt: 2024-04-15 19:28:51 -0400 (Mon, 15 Apr 2024) EndedAt: 2024-04-15 19:30:19 -0400 (Mon, 15 Apr 2024) EllapsedTime: 88.3 seconds RetCode: 0 Status: OK PackageFile: STdeconvolve_1.6.0.tar.gz PackageFileSize: 2.642 MiB