Package: STdeconvolve Version: 1.6.0 Command: /home/biocbuild/bbs-3.18-bioc/R/bin/R CMD INSTALL STdeconvolve StartedAt: 2024-04-15 15:16:15 -0400 (Mon, 15 Apr 2024) EndedAt: 2024-04-15 15:16:21 -0400 (Mon, 15 Apr 2024) EllapsedTime: 5.9 seconds RetCode: 0 Status: OK