Package: ScaledMatrix Version: 1.9.1 Command: /home/biocbuild/R/R-4.3.1/bin/R CMD check --install=check:ScaledMatrix.install-out.txt --library=/home/biocbuild/R/R-4.3.1/site-library --timings ScaledMatrix_1.9.1.tar.gz StartedAt: 2023-10-24 12:22:27 -0000 (Tue, 24 Oct 2023) EndedAt: 2023-10-24 12:29:46 -0000 (Tue, 24 Oct 2023) EllapsedTime: 438.7 seconds RetCode: 0 Status: OK CheckDir: ScaledMatrix.Rcheck Warnings: 0