Package: ScaledMatrix Version: 1.10.0 Command: /Library/Frameworks/R.framework/Resources/bin/R CMD build --keep-empty-dirs --no-resave-data ScaledMatrix StartedAt: 2024-03-03 18:09:22 -0500 (Sun, 03 Mar 2024) EndedAt: 2024-03-03 18:12:18 -0500 (Sun, 03 Mar 2024) EllapsedTime: 176.4 seconds RetCode: 0 Status: OK PackageFile: ScaledMatrix_1.10.0.tar.gz PackageFileSize: 305.7 KiB