Package: ScaledMatrix Version: 1.10.0 Command: /Library/Frameworks/R.framework/Resources/bin/R CMD build --keep-empty-dirs --no-resave-data ScaledMatrix StartedAt: 2024-04-15 21:34:25 -0400 (Mon, 15 Apr 2024) EndedAt: 2024-04-15 21:39:01 -0400 (Mon, 15 Apr 2024) EllapsedTime: 276.1 seconds RetCode: 0 Status: OK PackageFile: ScaledMatrix_1.10.0.tar.gz PackageFileSize: 305.7 KiB