Package: Sconify Version: 1.22.0 Command: /home/biocbuild/R/R-4.3.1/bin/R CMD check --install=check:Sconify.install-out.txt --library=/home/biocbuild/R/R-4.3.1/site-library --no-vignettes --timings Sconify_1.22.0.tar.gz StartedAt: 2023-11-02 14:10:48 -0000 (Thu, 02 Nov 2023) EndedAt: 2023-11-02 14:13:01 -0000 (Thu, 02 Nov 2023) EllapsedTime: 132.2 seconds RetCode: 0 Status: OK CheckDir: Sconify.Rcheck Warnings: 0