Package: Sconify Version: 1.22.0 Command: rm -rf Sconify.buildbin-libdir && mkdir Sconify.buildbin-libdir && /Users/biocbuild/BBS/utils/build-universal.sh Sconify_1.22.0.tar.gz /Library/Frameworks/R.framework/Resources/bin/R Sconify.buildbin-libdir StartedAt: 2024-03-04 01:03:23 -0500 (Mon, 04 Mar 2024) EndedAt: 2024-03-04 01:03:40 -0500 (Mon, 04 Mar 2024) EllapsedTime: 17.0 seconds RetCode: 0 Status: OK PackageFile: Sconify_1.22.0.tgz PackageFileSize: 3.477 MiB