Package: Sconify Version: 1.22.0 Command: /Library/Frameworks/R.framework/Resources/bin/R CMD build --keep-empty-dirs --no-resave-data Sconify StartedAt: 2024-03-03 18:14:01 -0500 (Sun, 03 Mar 2024) EndedAt: 2024-03-03 18:14:41 -0500 (Sun, 03 Mar 2024) EllapsedTime: 40.6 seconds RetCode: 0 Status: OK PackageFile: Sconify_1.22.0.tar.gz PackageFileSize: 4.755 MiB