Package: Sconify Version: 1.22.0 Command: /Library/Frameworks/R.framework/Resources/bin/R CMD INSTALL Sconify StartedAt: 2024-03-03 15:17:40 -0500 (Sun, 03 Mar 2024) EndedAt: 2024-03-03 15:17:53 -0500 (Sun, 03 Mar 2024) EllapsedTime: 13.2 seconds RetCode: 0 Status: OK