Package: SemDist Version: 1.36.0 Command: /Library/Frameworks/R.framework/Resources/bin/R CMD INSTALL SemDist StartedAt: 2024-03-03 15:14:16 -0500 (Sun, 03 Mar 2024) EndedAt: 2024-03-03 15:14:37 -0500 (Sun, 03 Mar 2024) EllapsedTime: 21.4 seconds RetCode: 0 Status: OK