Package: SeqGSEA Version: 1.42.0 Command: /Library/Frameworks/R.framework/Resources/bin/R CMD build --keep-empty-dirs --no-resave-data SeqGSEA StartedAt: 2024-03-03 18:18:22 -0500 (Sun, 03 Mar 2024) EndedAt: 2024-03-03 18:21:28 -0500 (Sun, 03 Mar 2024) EllapsedTime: 185.7 seconds RetCode: 0 Status: OK PackageFile: SeqGSEA_1.42.0.tar.gz PackageFileSize: 1.69 MiB