Package: SeqGate Version: 1.12.0 Command: /Library/Frameworks/R.framework/Resources/bin/R CMD INSTALL SeqGate StartedAt: 2024-04-15 15:16:10 -0400 (Mon, 15 Apr 2024) EndedAt: 2024-04-15 15:16:55 -0400 (Mon, 15 Apr 2024) EllapsedTime: 44.7 seconds RetCode: 0 Status: OK