Package: SeqVarTools Version: 1.40.0 Command: /home/biocbuild/bbs-3.18-bioc/R/bin/R CMD build --keep-empty-dirs --no-resave-data SeqVarTools StartedAt: 2024-04-15 19:13:37 -0400 (Mon, 15 Apr 2024) EndedAt: 2024-04-15 19:14:24 -0400 (Mon, 15 Apr 2024) EllapsedTime: 46.9 seconds RetCode: 0 Status: OK PackageFile: SeqVarTools_1.40.0.tar.gz PackageFileSize: 1000 KiB