Package: ShortRead Version: 1.60.0 Command: /Library/Frameworks/R.framework/Resources/bin/R CMD build --keep-empty-dirs --no-resave-data ShortRead StartedAt: 2024-03-03 18:19:45 -0500 (Sun, 03 Mar 2024) EndedAt: 2024-03-03 18:21:23 -0500 (Sun, 03 Mar 2024) EllapsedTime: 97.9 seconds RetCode: 0 Status: OK PackageFile: ShortRead_1.60.0.tar.gz PackageFileSize: 4.987 MiB